BEGIN:VCALENDAR
VERSION:2.0
PRODID:-//eventon.com NONSGML v1.0//EN
CALSCALE:GREGORIAN
METHOD:PUBLISH
BEGIN:VEVENT
UID:69e5e65d39065
DTSTAMP:20260420T083957Z
DTSTART:20260522T070000Z
DTEND:20260710T150000Z
LOCATION:
SUMMARY:Du scénario au roman
DESCRIPTION:Passer du scénario au roman n’est pas un simple changement d
 e format : c’est un déplacement profond du regard\,  du rythme et de la 
 matière du récit. Là où le scénario organise l’action\,  le roman ex
 plore la perception\,  la pensée\,  le trouble intérieur\,  le temps subj
 ectif. Adapter un scénario en[..]\nhttps://www.script-services.fr/evenemen
 ts/formation-du-scenario-au-roman/
URL:https://www.script-services.fr/evenements/formation-du-scenario-au-roman/
END:VEVENT
END:VCALENDAR